BEGIN:VCALENDAR
VERSION:2.0
PRODID:-//ChamberMaster//Event Calendar 2.0//EN
METHOD:PUBLISH
X-PUBLISHED-TTL:P3D
REFRESH-INTERVAL:P3D
CALSCALE:GREGORIAN
BEGIN:VEVENT
DTSTART;VALUE=DATE:20081112
DTEND;VALUE=DATE:20081113
TRANSP:TRANSPARENT
X-MICROSOFT-CDO-ALLDAYEVENT:TRUE
SUMMARY:Ralph McInerny Center Lecture Series
DESCRIPTION:Maggie Gallagher\, President\, Institute for Marriage and Public Policy Nationally syndicated columnist and Author of The Abolition of Marriage and The case for Marriage presents "Does Marriage have a Future?"\nPlease email to reserve advanced seating.    Tickets $20.
X-ALT-DESC;FMTTYPE=text/html:Maggie Gallagher\, President\, Institute for Marriage and Public Policy Nationally syndicated columnist and Author of The Abolition of Marriage and The case for Marriage presents "Does Marriage have a Future?"\nPlease email to reserve advanced seating.    Tickets $20.
LOCATION:
UID:e.1212.2805
SEQUENCE:3
DTSTAMP:20260425T151023Z
URL:https://business.beaufortchamber.org/events/details/ralph-mcinerny-center-lecture-series-11-12-2008-2805
END:VEVENT

END:VCALENDAR
