BEGIN:VCALENDAR
VERSION:2.0
PRODID:-//ChamberMaster//Event Calendar 2.0//EN
METHOD:PUBLISH
X-PUBLISHED-TTL:P3D
REFRESH-INTERVAL:P3D
CALSCALE:GREGORIAN
BEGIN:VEVENT
DTSTART;VALUE=DATE:20081114
DTEND;VALUE=DATE:20081115
TRANSP:TRANSPARENT
X-MICROSOFT-CDO-ALLDAYEVENT:TRUE
SUMMARY:Ralph McInerny Center Lecture Series
DESCRIPTION:Ralph McInerny\, Michael P. Grace Professor of Medieval Studies\, University of Notre Dame\, author of many academic works as well as detective novles and Fr. Dowling mystery series.  He will talk on "How Do Ordinary People Know Moral Principles?"    Please email to reserve advanced seating.    Tickets $20.
X-ALT-DESC;FMTTYPE=text/html:Ralph McInerny\, Michael P. Grace Professor of Medieval Studies\, University of Notre Dame\, author of many academic works as well as detective novles and Fr. Dowling mystery series.  He will talk on "How Do Ordinary People Know Moral Principles?"    Please email to reserve advanced seating.    Tickets $20.
LOCATION:
UID:e.1212.2806
SEQUENCE:3
DTSTAMP:20260425T151023Z
URL:https://business.beaufortchamber.org/events/details/ralph-mcinerny-center-lecture-series-11-14-2008-2806
END:VEVENT

END:VCALENDAR
