BEGIN:VCALENDAR
VERSION:2.0
PRODID:-//ChamberMaster//Event Calendar 2.0//EN
METHOD:PUBLISH
X-PUBLISHED-TTL:P3D
REFRESH-INTERVAL:P3D
CALSCALE:GREGORIAN
BEGIN:VEVENT
DTSTART:20251218T213000Z
DTEND:20251218T233000Z
X-MICROSOFT-CDO-ALLDAYEVENT:FALSE
SUMMARY:Ribbon Cutting and Oyster Roast for Middleton Street Property Management
DESCRIPTION:Come celebrate a new beginning for Middleton Street Property Management\, formerly Beaufort Rentals.\n\n\n\nEnjoy oysters catered by Sea Eagle Market\, beverages\, and connect with local colleagues.
X-ALT-DESC;FMTTYPE=text/html:Come celebrate a new beginning for Middleton Street Property Management\, formerly Beaufort Rentals.<br />\n<br />\nEnjoy oysters catered by Sea Eagle Market\, beverages\, and connect with local colleagues.&nbsp\;
LOCATION:1105 Middleton Street Beaufort\, SC 29902
UID:e.1212.14959
SEQUENCE:3
DTSTAMP:20260424T115326Z
URL:https://business.beaufortchamber.org/events/details/ribbon-cutting-and-oyster-roast-for-middleton-street-property-management-14959
END:VEVENT

END:VCALENDAR
