BEGIN:VCALENDAR
VERSION:2.0
PRODID:-//ChamberMaster//Event Calendar 2.0//EN
METHOD:PUBLISH
X-PUBLISHED-TTL:P3D
REFRESH-INTERVAL:P3D
CALSCALE:GREGORIAN
BEGIN:VEVENT
DTSTART:20190516T153000Z
DTEND:20190516T170000Z
X-MICROSOFT-CDO-ALLDAYEVENT:FALSE
SUMMARY:Ribbon Cutting: Auto Genius
DESCRIPTION:Join us to celebrate the grand opening of Auto Genius' new location in Beaufort with a ribbon cutting ceremony. \n\n\n\nAuto Genius staff invites the public to be a part of the celebration. Guests can enjoy lights snacks and the chance to win a door prize.
X-ALT-DESC;FMTTYPE=text/html:Join us to celebrate the grand opening of Auto Genius&#39\; new location in Beaufort with a ribbon cutting ceremony.&nbsp\;<br />\n<br />\nAuto Genius staff invites the public to be a part of the celebration. Guests can enjoy lights snacks and the chance to win a door prize.
LOCATION:130 Robert Smalls Parkway\, Beaufort\, SC
UID:e.1212.11598
SEQUENCE:3
DTSTAMP:20260422T175021Z
URL:https://business.beaufortchamber.org/events/details/ribbon-cutting-auto-genius-11598
END:VEVENT

END:VCALENDAR
