BEGIN:VCALENDAR
VERSION:2.0
PRODID:-//ChamberMaster//Event Calendar 2.0//EN
METHOD:PUBLISH
X-PUBLISHED-TTL:P3D
REFRESH-INTERVAL:P3D
CALSCALE:GREGORIAN
BEGIN:VEVENT
DTSTART:20230511T200000Z
DTEND:20230511T210000Z
X-MICROSOFT-CDO-ALLDAYEVENT:FALSE
SUMMARY:Ribbon-Cutting: Beaufort Eye Center
DESCRIPTION:Join us to "cut the ribbon" with Beaufort Eye Center and check out their facility!\n\nRefreshments will be served.
X-ALT-DESC;FMTTYPE=text/html:Join us to &quot\;cut the ribbon&quot\; with Beaufort Eye Center and check out their facility!<br />\nRefreshments will be served.
LOCATION:
UID:e.1212.13392
SEQUENCE:3
DTSTAMP:20260424T150959Z
URL:https://business.beaufortchamber.org/events/details/ribbon-cutting-beaufort-eye-center-13392
END:VEVENT

END:VCALENDAR
