BEGIN:VCALENDAR
VERSION:2.0
PRODID:-//ChamberMaster//Event Calendar 2.0//EN
METHOD:PUBLISH
X-PUBLISHED-TTL:P3D
REFRESH-INTERVAL:P3D
CALSCALE:GREGORIAN
BEGIN:VEVENT
DTSTART:20230203T180000Z
DTEND:20230203T183000Z
X-MICROSOFT-CDO-ALLDAYEVENT:FALSE
SUMMARY:Ribbon-Cutting Ceremony: Energy Evolution
DESCRIPTION:You're invited to St. Helena Island to celebrate the Grand Opening of Energy Evolution. \n\nRefreshments will be provided.
X-ALT-DESC;FMTTYPE=text/html:You&#39\;re invited to St. Helena Island to celebrate the Grand Opening of Energy Evolution.&nbsp\;<br />\nRefreshments will be provided.
LOCATION:1000 Sea Island Parkway
UID:e.1212.13352
SEQUENCE:3
DTSTAMP:20260424T180154Z
URL:https://business.beaufortchamber.org/events/details/ribbon-cutting-ceremony-energy-evolution-13352
END:VEVENT

END:VCALENDAR
