BEGIN:VCALENDAR
VERSION:2.0
PRODID:-//ChamberMaster//Event Calendar 2.0//EN
METHOD:PUBLISH
X-PUBLISHED-TTL:P3D
REFRESH-INTERVAL:P3D
CALSCALE:GREGORIAN
BEGIN:VEVENT
DTSTART:20221007T210000Z
DTEND:20221007T213000Z
X-MICROSOFT-CDO-ALLDAYEVENT:FALSE
SUMMARY:Ribbon-Cutting for ACE Hardware
DESCRIPTION:Come celebrate the Grand Opening of ACE Hardware in Port Royal!
X-ALT-DESC;FMTTYPE=text/html:Come celebrate the Grand Opening of ACE Hardware in Port Royal!
LOCATION:Royal Oaks shopping center on Ribault Road
UID:e.1212.13301
SEQUENCE:3
DTSTAMP:20260424T232455Z
URL:https://business.beaufortchamber.org/events/details/ribbon-cutting-for-ace-hardware-13301
END:VEVENT

END:VCALENDAR
