BEGIN:VCALENDAR
VERSION:2.0
PRODID:-//ChamberMaster//Event Calendar 2.0//EN
METHOD:PUBLISH
X-PUBLISHED-TTL:P3D
REFRESH-INTERVAL:P3D
CALSCALE:GREGORIAN
BEGIN:VEVENT
DTSTART:20230117T180000Z
DTEND:20230117T183000Z
X-MICROSOFT-CDO-ALLDAYEVENT:FALSE
SUMMARY:Ribbon-Cutting for Broad River Exchange
DESCRIPTION:Join is for a Grand Opening ceremony and ribbon-cutting at Habersham's newest retail store -- Broad River Exchange.\n\nLight refreshments provided.
X-ALT-DESC;FMTTYPE=text/html:Join is for a Grand Opening ceremony and ribbon-cutting at Habersham&#39\;s newest retail store -- Broad River Exchange.<br />\nLight refreshments provided.
LOCATION:Habersham
UID:e.1212.13347
SEQUENCE:3
DTSTAMP:20260424T192004Z
URL:https://business.beaufortchamber.org/events/details/ribbon-cutting-for-broad-river-exchange-13347
END:VEVENT

END:VCALENDAR
