BEGIN:VCALENDAR
VERSION:2.0
PRODID:-//ChamberMaster//Event Calendar 2.0//EN
METHOD:PUBLISH
X-PUBLISHED-TTL:P3D
REFRESH-INTERVAL:P3D
CALSCALE:GREGORIAN
BEGIN:VEVENT
DTSTART:20230914T180000Z
DTEND:20230914T183000Z
X-MICROSOFT-CDO-ALLDAYEVENT:FALSE
SUMMARY:Ribbon-cutting for Gower Family Dentistry
DESCRIPTION:Let's celebrate the Grand Opening of Gower Family Dentistry in Beaufort Town Center\, right along Boundary Street!
X-ALT-DESC;FMTTYPE=text/html:Let&#39\;s celebrate the Grand Opening of Gower Family Dentistry in Beaufort Town Center\, right along Boundary Street!
LOCATION:
UID:e.1212.13428
SEQUENCE:3
DTSTAMP:20260424T065554Z
URL:https://business.beaufortchamber.org/events/details/ribbon-cutting-for-gower-family-dentistry-13428
END:VEVENT

END:VCALENDAR
