BEGIN:VCALENDAR
VERSION:2.0
PRODID:-//ChamberMaster//Event Calendar 2.0//EN
METHOD:PUBLISH
X-PUBLISHED-TTL:P3D
REFRESH-INTERVAL:P3D
CALSCALE:GREGORIAN
BEGIN:VEVENT
DTSTART:20251004T140000Z
DTEND:20251004T150000Z
X-MICROSOFT-CDO-ALLDAYEVENT:FALSE
SUMMARY:Ribbon Cutting for Operations Patriots FOB
DESCRIPTION:Join us to cut the ribbon at Operations Patriots FOB
X-ALT-DESC;FMTTYPE=text/html:Join us to cut the ribbon at Operations Patriots FOB
LOCATION:328 Lakeview Dr Ridgeland\, SC 29936
UID:e.1212.14934
SEQUENCE:3
DTSTAMP:20260424T080236Z
URL:https://business.beaufortchamber.org/events/details/ribbon-cutting-for-operations-patriots-fob-14934
END:VEVENT

END:VCALENDAR
