BEGIN:VCALENDAR
VERSION:2.0
PRODID:-//ChamberMaster//Event Calendar 2.0//EN
METHOD:PUBLISH
X-PUBLISHED-TTL:P3D
REFRESH-INTERVAL:P3D
CALSCALE:GREGORIAN
BEGIN:VEVENT
DTSTART:20260109T193000Z
DTEND:20260109T200000Z
X-MICROSOFT-CDO-ALLDAYEVENT:FALSE
SUMMARY:Ribbon Cutting for Pointe Grande Beaufort
DESCRIPTION:Join us for a special Ribbon Cutting Celebration for Pointe Grande Beaufort. Enjoy complimentary refreshments and hors d'oeuvres\, tour the property and network with community leaders
X-ALT-DESC;FMTTYPE=text/html:Join us for a special Ribbon Cutting Celebration for Pointe Grande Beaufort. Enjoy complimentary refreshments and hors d&#39\;oeuvres\, tour the property and network with community leaders
LOCATION:Point Grande Beaufort 135 Hillpointe Circle Beaufort\, SC 29902
UID:e.1212.14971
SEQUENCE:3
DTSTAMP:20260422T115326Z
URL:https://business.beaufortchamber.org/events/details/ribbon-cutting-for-pointe-grande-beaufort-14971
END:VEVENT

END:VCALENDAR
