BEGIN:VCALENDAR
VERSION:2.0
PRODID:-//ChamberMaster//Event Calendar 2.0//EN
METHOD:PUBLISH
X-PUBLISHED-TTL:P3D
REFRESH-INTERVAL:P3D
CALSCALE:GREGORIAN
BEGIN:VEVENT
DTSTART:20230428T180000Z
DTEND:20230428T183000Z
X-MICROSOFT-CDO-ALLDAYEVENT:FALSE
SUMMARY:Ribbon-Cutting for Re/Max Dream
DESCRIPTION:You're invited to a ceremony at the new Re/Max dream office on Lady's Island!
X-ALT-DESC;FMTTYPE=text/html:You&#39\;re invited to a ceremony at the new Re/Max dream office on Lady&#39\;s Island!
LOCATION:93 Sams Point Road
UID:e.1212.13383
SEQUENCE:3
DTSTAMP:20260424T150755Z
URL:https://business.beaufortchamber.org/events/details/ribbon-cutting-for-re-max-dream-13383
END:VEVENT

END:VCALENDAR
