BEGIN:VCALENDAR
VERSION:2.0
PRODID:-//ChamberMaster//Event Calendar 2.0//EN
METHOD:PUBLISH
X-PUBLISHED-TTL:P3D
REFRESH-INTERVAL:P3D
CALSCALE:GREGORIAN
BEGIN:VEVENT
DTSTART:20221213T160000Z
DTEND:20221213T170000Z
X-MICROSOFT-CDO-ALLDAYEVENT:FALSE
SUMMARY:Ribbon-Cutting for South Atlantic Bank
DESCRIPTION:Come celebrate the Grand Opening of South Atlantic Bank!\n\nRibbon-cutting ceremony will also include refreshments
X-ALT-DESC;FMTTYPE=text/html:Come celebrate the Grand Opening of South Atlantic Bank!<br />\nRibbon-cutting ceremony will also include refreshments
LOCATION:
UID:e.1212.13325
SEQUENCE:3
DTSTAMP:20260424T204140Z
URL:https://business.beaufortchamber.org/events/details/ribbon-cutting-for-south-atlantic-bank-13325
END:VEVENT

END:VCALENDAR
