BEGIN:VCALENDAR
VERSION:2.0
PRODID:-//ChamberMaster//Event Calendar 2.0//EN
METHOD:PUBLISH
X-PUBLISHED-TTL:P3D
REFRESH-INTERVAL:P3D
CALSCALE:GREGORIAN
BEGIN:VEVENT
DTSTART:20260320T170000Z
DTEND:20260320T170000Z
X-MICROSOFT-CDO-ALLDAYEVENT:FALSE
SUMMARY:Ribbon Cutting for Stinger Home Management
DESCRIPTION:Join us as we celebrate Stinger Home Managements important milestone! Let's cut the ribbon on their new office!
X-ALT-DESC;FMTTYPE=text/html:Join us as we celebrate Stinger Home Managements important milestone! Let&#39\;s cut the ribbon on their new office!
LOCATION:Stinger Home Management 65 Sam's Point Road Beaufort\, SC 29907
UID:e.1212.15000
SEQUENCE:3
DTSTAMP:20260424T175449Z
URL:https://business.beaufortchamber.org/events/details/ribbon-cutting-for-stinger-home-management-15000
END:VEVENT

END:VCALENDAR
