BEGIN:VCALENDAR
VERSION:2.0
PRODID:-//ChamberMaster//Event Calendar 2.0//EN
METHOD:PUBLISH
X-PUBLISHED-TTL:P3D
REFRESH-INTERVAL:P3D
CALSCALE:GREGORIAN
BEGIN:VEVENT
DTSTART:20230821T153000Z
DTEND:20230821T043000Z
X-MICROSOFT-CDO-ALLDAYEVENT:FALSE
SUMMARY:Ribbon-Cutting for Sunny Summers Cafe
DESCRIPTION:Join us to for the Grand Opening of Beaufort's newest eatery in the heart of town at the Beaufort Plaza shopping center! Sunny Summers Cafe is locally owned and excited to serve you!
X-ALT-DESC;FMTTYPE=text/html:Join us to for the Grand Opening of Beaufort&#39\;s newest eatery in the heart of town at the Beaufort Plaza shopping center! Sunny Summers Cafe is locally owned and excited to serve you!
LOCATION:
UID:e.1212.13416
SEQUENCE:3
DTSTAMP:20260424T083620Z
URL:https://business.beaufortchamber.org/events/details/ribbon-cutting-for-sunny-summers-cafe-13416
END:VEVENT

END:VCALENDAR
