BEGIN:VCALENDAR
VERSION:2.0
PRODID:-//ChamberMaster//Event Calendar 2.0//EN
METHOD:PUBLISH
X-PUBLISHED-TTL:P3D
REFRESH-INTERVAL:P3D
CALSCALE:GREGORIAN
BEGIN:VEVENT
DTSTART:20230201T170000Z
DTEND:20230201T173000Z
X-MICROSOFT-CDO-ALLDAYEVENT:FALSE
SUMMARY:Ribbon-cutting for the Bridal House of Beaufort
DESCRIPTION:Come see Beaufort's newest - and only - formal wear and bridal boutique in Beaufort Town Center (behind the Hilton Garden Inn).
X-ALT-DESC;FMTTYPE=text/html:Come see Beaufort&#39\;s newest - and only - formal wear and bridal boutique in Beaufort Town Center (behind the Hilton Garden Inn).&nbsp\;
LOCATION:1600 Burnside
UID:e.1212.13356
SEQUENCE:3
DTSTAMP:20260424T180601Z
URL:https://business.beaufortchamber.org/events/details/ribbon-cutting-for-the-bridal-house-of-beaufort-13356
END:VEVENT

END:VCALENDAR
