BEGIN:VCALENDAR
VERSION:2.0
PRODID:-//ChamberMaster//Event Calendar 2.0//EN
METHOD:PUBLISH
X-PUBLISHED-TTL:P3D
REFRESH-INTERVAL:P3D
CALSCALE:GREGORIAN
BEGIN:VEVENT
DTSTART:20260122T170000Z
DTEND:20260122T170000Z
X-MICROSOFT-CDO-ALLDAYEVENT:FALSE
SUMMARY:Ribbon Cutting for Well House Juicery
DESCRIPTION:Join us for the Grand Opening and Ribbon Cutting Ceremony for Well House Juicery. Enjoy special offerings\, giveaways\, and tastings from their local vendors.
X-ALT-DESC;FMTTYPE=text/html:Join us for the Grand Opening and Ribbon Cutting Ceremony for Well House Juicery. Enjoy special offerings\, giveaways\, and tastings from their local vendors.
LOCATION:Well House Juicery 2139 Boundary Street Suite 120 Beaufort\, SC 29902
UID:e.1212.14972
SEQUENCE:3
DTSTAMP:20260422T115329Z
URL:https://business.beaufortchamber.org/events/details/ribbon-cutting-for-well-house-juicery-14972
END:VEVENT

END:VCALENDAR
