BEGIN:VCALENDAR
VERSION:2.0
PRODID:-//ChamberMaster//Event Calendar 2.0//EN
METHOD:PUBLISH
X-PUBLISHED-TTL:P3D
REFRESH-INTERVAL:P3D
CALSCALE:GREGORIAN
BEGIN:VEVENT
DTSTART:20230719T160000Z
DTEND:20230719T163000Z
X-MICROSOFT-CDO-ALLDAYEVENT:FALSE
SUMMARY:Ribbon-cutting: Lowcountry Urgent Care
DESCRIPTION:Join us for a "Summer Bash" themed Grand Opening for Lowcountry Urgent Care's brand new clinic!
X-ALT-DESC;FMTTYPE=text/html:Join us for a &quot\;Summer Bash&quot\; themed Grand Opening for Lowcountry Urgent Care&#39\;s brand new clinic!
LOCATION:Beaufort Plaza Shopping Center on Robert Smalls Pkwy (Staples/Publix area)
UID:e.1212.13410
SEQUENCE:3
DTSTAMP:20260424T102325Z
URL:https://business.beaufortchamber.org/events/details/ribbon-cutting-lowcountry-urgent-care-13410
END:VEVENT

END:VCALENDAR
