BEGIN:VCALENDAR
VERSION:2.0
PRODID:-//ChamberMaster//Event Calendar 2.0//EN
METHOD:PUBLISH
X-PUBLISHED-TTL:P3D
REFRESH-INTERVAL:P3D
CALSCALE:GREGORIAN
BEGIN:VEVENT
DTSTART:20230213T153000Z
DTEND:20230213T160000Z
X-MICROSOFT-CDO-ALLDAYEVENT:FALSE
SUMMARY:Ribbon Cutting: Nimmons Malchow Johnson
DESCRIPTION:All Chamber members are invited to celebrate the Grand Opening of the Nimmons Malchow Johnson\, attorneys at law\, office in downtown Beaufort on Bay Street.\n\nLight refreshments and coffee will be served.
X-ALT-DESC;FMTTYPE=text/html:All Chamber members are invited to celebrate the Grand Opening of the Nimmons Malchow Johnson\, attorneys at law\, office in downtown Beaufort on Bay Street.<br />\nLight refreshments and coffee will be served.
LOCATION:1011 Bay Street\, Suite 303
UID:e.1212.13357
SEQUENCE:3
DTSTAMP:20260424T180250Z
URL:https://business.beaufortchamber.org/events/details/ribbon-cutting-nimmons-malchow-johnson-13357
END:VEVENT

END:VCALENDAR
