BEGIN:VCALENDAR
VERSION:2.0
PRODID:-//ChamberMaster//Event Calendar 2.0//EN
METHOD:PUBLISH
X-PUBLISHED-TTL:P3D
REFRESH-INTERVAL:P3D
CALSCALE:GREGORIAN
BEGIN:VEVENT
DTSTART;VALUE=DATE:20080315
DTEND;VALUE=DATE:20080316
TRANSP:TRANSPARENT
X-MICROSOFT-CDO-ALLDAYEVENT:TRUE
SUMMARY:River Quest Kayak /Canoe Race
DESCRIPTION:The 3-Mile and 7.4 mile races will start   9:30 a.m.\nracer's meeting\; 10 a.m. start at Waterfront park\; and 12:30 p.m. awards ceremony at Panini's deck on\nthe waterfront.  Categories:  K I\, Surf ski\, racing kayak\, touring sea kayak (over 16')\, recreational kayak\n(under 16 ft) canoe\, and tandem/double kayak/canoe.  Two divisions for men   Seniors - Age 50 & over.  Call or email for information on fees and  registration.
X-ALT-DESC;FMTTYPE=text/html:The 3-Mile and 7.4 mile races will start & finish at the same location.  Registration @ 8 a.m.\; 9:30 a.m.\nracer's meeting\; 10 a.m. start at Waterfront park\; and 12:30 p.m. awards ceremony at Panini's deck on\nthe waterfront.  Categories:  K I\, Surf ski\, racing kayak\, touring sea kayak (over 16')\, recreational kayak\n(under 16 ft) canoe\, and tandem/double kayak/canoe.  Two divisions for men & women:  Open - age 49\nand under\; Seniors - Age 50 & over.  Call or email for information on fees and  registration.
LOCATION:
UID:e.1212.2129
SEQUENCE:3
DTSTAMP:20260425T024605Z
URL:https://business.beaufortchamber.org/events/details/river-quest-kayak-canoe-race-03-15-2008-2129
END:VEVENT

END:VCALENDAR
