BEGIN:VCALENDAR
VERSION:2.0
PRODID:-//ChamberMaster//Event Calendar 2.0//EN
METHOD:PUBLISH
X-PUBLISHED-TTL:P3D
REFRESH-INTERVAL:P3D
CALSCALE:GREGORIAN
BEGIN:VEVENT
DTSTART;VALUE=DATE:20081101
DTEND;VALUE=DATE:20081102
TRANSP:TRANSPARENT
X-MICROSOFT-CDO-ALLDAYEVENT:TRUE
SUMMARY:Rotary Club of the Lowcountry's Oyster Roast
DESCRIPTION:Oysters\, hot dogs\, chili\, beer/wine\, and soft drinks.  Tickets can be purchased in advance for $20\, $25 at the gate.  Children 10 & under are free.  Door prizes\, live music by Mike Kavanaugh and auctions that will benefit local charities.  Reserve your tickets by calling Terri Stokes.
X-ALT-DESC;FMTTYPE=text/html:Oysters\, hot dogs\, chili\, beer/wine\, and soft drinks.  Tickets can be purchased in advance for $20\, $25 at the gate.  Children 10 & under are free.  Door prizes\, live music by Mike Kavanaugh and auctions that will benefit local charities.  Reserve your tickets by calling Terri Stokes.
LOCATION:Port Royal
UID:e.1212.2669
SEQUENCE:3
DTSTAMP:20260425T161525Z
URL:https://business.beaufortchamber.org/events/details/rotary-club-of-the-lowcountry-s-oyster-roast-11-01-2008-2669
END:VEVENT

END:VCALENDAR
