BEGIN:VCALENDAR
VERSION:2.0
PRODID:-//ChamberMaster//Event Calendar 2.0//EN
METHOD:PUBLISH
X-PUBLISHED-TTL:P3D
REFRESH-INTERVAL:P3D
CALSCALE:GREGORIAN
BEGIN:VEVENT
DTSTART;VALUE=DATE:20081107
DTEND;VALUE=DATE:20081108
TRANSP:TRANSPARENT
X-MICROSOFT-CDO-ALLDAYEVENT:TRUE
SUMMARY:Sanctuary Golf Club - Tournament
DESCRIPTION:(Formerly South Carolina National Golf Club) Grand Reopening Tournament.  Format : Captain's Choice.  Make your own team or we'll pair you up.  Lunch 11:30am.  Shotgun start 12:30pm.  Cocktail reception after the round.  $125 per person includes lunch\, gift bag and prizes.  Registration available at Pro Shop too.
X-ALT-DESC;FMTTYPE=text/html:(Formerly South Carolina National Golf Club) Grand Reopening Tournament.  Format : Captain's Choice.  Make your own team or we'll pair you up.  Lunch 11:30am.  Shotgun start 12:30pm.  Cocktail reception after the round.  $125 per person includes lunch\, gift bag and prizes.  Registration available at Pro Shop too.
LOCATION:
UID:e.1212.2787
SEQUENCE:3
DTSTAMP:20260425T151738Z
URL:https://business.beaufortchamber.org/events/details/sanctuary-golf-club-tournament-11-07-2008-2787
END:VEVENT

END:VCALENDAR
