BEGIN:VCALENDAR
VERSION:2.0
PRODID:-//ChamberMaster//Event Calendar 2.0//EN
METHOD:PUBLISH
X-PUBLISHED-TTL:P3D
REFRESH-INTERVAL:P3D
CALSCALE:GREGORIAN
BEGIN:VEVENT
DTSTART;VALUE=DATE:20080328
DTEND;VALUE=DATE:20080329
TRANSP:TRANSPARENT
X-MICROSOFT-CDO-ALLDAYEVENT:TRUE
SUMMARY:SC Assoc. of Criminal Defense Lawyers Spring Seminar
DESCRIPTION:This seminar\, "The Essential Mitigation Case"\, qualifies for 6.8 CLE hours which includes an hour of ethics.\nRegistration Fee is $180 if received before March 21.  Late registration fee is $200.  Hotel accomodations\nand CLE site is the Best Western Sea Island Inn\, 843-522-2090.  For additional information\,\ncontact the SC Assoc. of Criminal Defense Lawyers\, PO 8353\, Columbia\, SC  29202.
X-ALT-DESC;FMTTYPE=text/html:This seminar\, "The Essential Mitigation Case"\, qualifies for 6.8 CLE hours which includes an hour of ethics.\nRegistration Fee is $180 if received before March 21.  Late registration fee is $200.  Hotel accomodations\nand CLE site is the Best Western Sea Island Inn\, 843-522-2090.  For additional information\,\ncontact the SC Assoc. of Criminal Defense Lawyers\, PO 8353\, Columbia\, SC  29202.
LOCATION:
UID:e.1212.2243
SEQUENCE:3
DTSTAMP:20260425T024828Z
URL:https://business.beaufortchamber.org/events/details/sc-assoc-of-criminal-defense-lawyers-spring-seminar-03-28-2008-2243
END:VEVENT

END:VCALENDAR
