BEGIN:VCALENDAR
VERSION:2.0
PRODID:-//ChamberMaster//Event Calendar 2.0//EN
METHOD:PUBLISH
X-PUBLISHED-TTL:P3D
REFRESH-INTERVAL:P3D
CALSCALE:GREGORIAN
BEGIN:VEVENT
DTSTART:20230915T153000Z
DTEND:20230915T163000Z
X-MICROSOFT-CDO-ALLDAYEVENT:FALSE
SUMMARY:SC Chamber Grassroots Tour comes to Beaufort
DESCRIPTION:The South Carolina Chamber of Commerce's annual Grassroots Tour is a critical component in the development of the business community's aggressive competitiveness agenda that is released each year prior to the legislative session.\n\nBob Morgan\, President of the SC Chamber\, is coming to Beaufort to meet with business leaders in the lowcountry. Lunch provided\, or bring your own!
X-ALT-DESC;FMTTYPE=text/html:The South Carolina Chamber of Commerce&#39\;s annual Grassroots Tour is a critical component in the development of the business community&rsquo\;s aggressive competitiveness agenda that is released each year prior to the legislative session.<br />\nBob Morgan\, President of the SC Chamber\, is coming to Beaufort to meet with business leaders in the lowcountry. Lunch provided\, or bring your own!&nbsp\;
LOCATION:1106 Carteret Street Beaufort Regional Chamber of Commerce
UID:e.1212.13422
SEQUENCE:3
DTSTAMP:20260424T064825Z
URL:https://business.beaufortchamber.org/events/details/sc-chamber-grassroots-tour-comes-to-beaufort-13422
END:VEVENT

END:VCALENDAR
