BEGIN:VCALENDAR
VERSION:2.0
PRODID:-//ChamberMaster//Event Calendar 2.0//EN
METHOD:PUBLISH
X-PUBLISHED-TTL:P3D
REFRESH-INTERVAL:P3D
CALSCALE:GREGORIAN
BEGIN:VEVENT
DTSTART;VALUE=DATE:20080802
DTEND;VALUE=DATE:20080803
TRANSP:TRANSPARENT
X-MICROSOFT-CDO-ALLDAYEVENT:TRUE
SUMMARY:SCPRT 75th Anniversary Celebration at Hunting Island State Park
DESCRIPTION:Opening ceremony Sat @ 9 a.m.  Then a full day of activities including a sand sculpture contest\, scavenger \nhunt\, sea turtle   $2.50-for seniors\, SC residents 65 and older\; $1.50-youth 6 to\n15 years\; under 6 Free.
X-ALT-DESC;FMTTYPE=text/html:Opening ceremony Sat @ 9 a.m.  Then a full day of activities including a sand sculpture contest\, scavenger \nhunt\, sea turtle & reptile talks\, basic kayaking lesson\, history of Hunting Island\, and lighthouse keeper \nprotrayal.  Sunday activities start at 10 a.m.  Complete schedules available at at the park.  Regular park\nfees apply.  $4-adults 16 years and older\; $2.50-for seniors\, SC residents 65 and older\; $1.50-youth 6 to\n15 years\; under 6 Free.
LOCATION:
UID:e.1212.2306
SEQUENCE:3
DTSTAMP:20260425T105723Z
URL:https://business.beaufortchamber.org/events/details/scprt-75th-anniversary-celebration-at-hunting-island-state-park-08-02-2008-2306
END:VEVENT

END:VCALENDAR
