BEGIN:VCALENDAR
VERSION:2.0
PRODID:-//ChamberMaster//Event Calendar 2.0//EN
METHOD:PUBLISH
X-PUBLISHED-TTL:P3D
REFRESH-INTERVAL:P3D
CALSCALE:GREGORIAN
BEGIN:VEVENT
DTSTART;VALUE=DATE:20080305
DTEND;VALUE=DATE:20080306
TRANSP:TRANSPARENT
X-MICROSOFT-CDO-ALLDAYEVENT:TRUE
SUMMARY:Scrapbooking 101 Class
DESCRIPTION:Bring four 4x6 photos with the same theme and create a 2-page layout to take home with you.  Supplies\nincluded in the $25 fee.   Reservations required.
X-ALT-DESC;FMTTYPE=text/html:Bring four 4x6 photos with the same theme and create a 2-page layout to take home with you.  Supplies\nincluded in the $25 fee.   Reservations required.\n
LOCATION:
UID:e.1212.2180
SEQUENCE:3
DTSTAMP:20260425T024433Z
URL:https://business.beaufortchamber.org/events/details/scrapbooking-101-class-03-05-2008-2180
END:VEVENT

END:VCALENDAR
