BEGIN:VCALENDAR
VERSION:2.0
PRODID:-//ChamberMaster//Event Calendar 2.0//EN
METHOD:PUBLISH
X-PUBLISHED-TTL:P3D
REFRESH-INTERVAL:P3D
CALSCALE:GREGORIAN
BEGIN:VEVENT
DTSTART;VALUE=DATE:20071211
DTEND;VALUE=DATE:20071212
TRANSP:TRANSPARENT
X-MICROSOFT-CDO-ALLDAYEVENT:TRUE
SUMMARY:Scrooge - A Christmas Classic Comes Alive in Dance
DESCRIPTION:One Performance only by the Columbia City Ballet from Columbia\, SC.  All tickets $7.
X-ALT-DESC;FMTTYPE=text/html:One Performance only by the Columbia City Ballet from Columbia\, SC.  All tickets $7.
LOCATION:
UID:e.1212.1757
SEQUENCE:3
DTSTAMP:20260424T222416Z
URL:https://business.beaufortchamber.org/events/details/scrooge-a-christmas-classic-comes-alive-in-dance-12-11-2007-1757
END:VEVENT

END:VCALENDAR
