BEGIN:VCALENDAR
VERSION:2.0
PRODID:-//ChamberMaster//Event Calendar 2.0//EN
METHOD:PUBLISH
X-PUBLISHED-TTL:P3D
REFRESH-INTERVAL:P3D
CALSCALE:GREGORIAN
BEGIN:VEVENT
DTSTART;VALUE=DATE:20080912
DTEND;VALUE=DATE:20080913
TRANSP:TRANSPARENT
X-MICROSOFT-CDO-ALLDAYEVENT:TRUE
SUMMARY:Seafood\, Jazz & Brew
DESCRIPTION:For more information\, please call or email the Hilton Head Hospitality Association.
X-ALT-DESC;FMTTYPE=text/html:For more information\, please call or email the Hilton Head Hospitality Association.
LOCATION:
UID:e.1212.2454
SEQUENCE:3
DTSTAMP:20260425T122227Z
URL:https://business.beaufortchamber.org/events/details/seafood-jazz-brew-09-12-2008-2454
END:VEVENT

END:VCALENDAR
