BEGIN:VCALENDAR
VERSION:2.0
PRODID:-//ChamberMaster//Event Calendar 2.0//EN
METHOD:PUBLISH
X-PUBLISHED-TTL:P3D
REFRESH-INTERVAL:P3D
CALSCALE:GREGORIAN
BEGIN:VEVENT
DTSTART;VALUE=DATE:20080301
DTEND;VALUE=DATE:20080302
TRANSP:TRANSPARENT
X-MICROSOFT-CDO-ALLDAYEVENT:TRUE
SUMMARY:Second Day of Tours
DESCRIPTION:Judgement House is a professional quality\, nine-scene interactive walk-through drama\, which powerfully presents the gospel through a relevant and gripping story.  Visitors are led through a series of rooms that tell a story about people whose lives have been cut short through some kind of tragedy.  You will experience dramatically how their deaths impact their family and what happens to them beyond the grave.  Each Judgement House tour takes about 50 minutes.  Groups (20 people) will start every 12 minutes.  Reservations REQUIRED\; call now to reserve a spot!\n\n\nSaturday Schedule of Tours\n10 a.m. - 12 p.m.\n3 p.m. - 5 p.m.\n7 p.m. - 10 p.m.
X-ALT-DESC;FMTTYPE=text/html:Judgement House is a professional quality\, nine-scene interactive walk-through drama\, which powerfully presents the gospel through a relevant and gripping story.  Visitors are led through a series of rooms that tell a story about people whose lives have been cut short through some kind of tragedy.  You will experience dramatically how their deaths impact their family and what happens to them beyond the grave.  Each Judgement House tour takes about 50 minutes.  Groups (20 people) will start every 12 minutes.  <b>Reservations REQUIRED\; call now to reserve a spot!</b><br><BR><BR><U><b>Saturday Schedule of Tours</b></U><BR>10 a.m. - 12 p.m.<BR>3 p.m. - 5 p.m.<BR>7 p.m. - 10 p.m.
LOCATION:Ridgeland\, SC
UID:e.1212.2226
SEQUENCE:3
DTSTAMP:20260425T024606Z
URL:https://business.beaufortchamber.org/events/details/second-day-of-tours-03-01-2008-2226
END:VEVENT

END:VCALENDAR
