BEGIN:VCALENDAR
VERSION:2.0
PRODID:-//ChamberMaster//Event Calendar 2.0//EN
METHOD:PUBLISH
X-PUBLISHED-TTL:P3D
REFRESH-INTERVAL:P3D
CALSCALE:GREGORIAN
BEGIN:VEVENT
DTSTART:20230912T223000Z
DTEND:20230912T233000Z
X-MICROSOFT-CDO-ALLDAYEVENT:FALSE
SUMMARY:September Soiree: Picnic for Local Women
DESCRIPTION:This event is for any local ladies in Beaufort County to come together. We know sometimes it can be difficult to make friends at any age and we wanted to host a get together just to connect! This private picnic party does have limited spacing\, so please RSVP! It is $10 per person and to pay\, please call us at 843-252-9272. We are asking you to bring your favorite "girls dinner." We will provide tea and lemonade as sips.
X-ALT-DESC;FMTTYPE=text/html:<div>This event is for any local ladies in Beaufort County to come together. We know sometimes it can be difficult to make friends at any age and we wanted to host a get together just to connect! This private picnic party does have limited spacing\, so please RSVP! It is $10 per person and to pay\, please call us at 843-252-9272. We are asking you to bring your favorite &quot\;girls dinner.&quot\; We will provide tea and lemonade as sips.</div>\n
LOCATION:Fort Frederick Heritage Preserve
UID:e.1212.13431
SEQUENCE:3
DTSTAMP:20260424T064653Z
URL:https://business.beaufortchamber.org/events/details/september-soiree-picnic-for-local-women-13431
END:VEVENT

END:VCALENDAR
