BEGIN:VCALENDAR
VERSION:2.0
PRODID:-//ChamberMaster//Event Calendar 2.0//EN
METHOD:PUBLISH
X-PUBLISHED-TTL:P3D
REFRESH-INTERVAL:P3D
CALSCALE:GREGORIAN
BEGIN:VEVENT
DTSTART:20200513T180000Z
DTEND:20200513T200000Z
X-MICROSOFT-CDO-ALLDAYEVENT:FALSE
SUMMARY:Sharing Our Wisdom Parade
DESCRIPTION:While Social distancing is a must. We are inviting our friends and families to participate in a PARADE!\n\nCome join us in celebrating National Nursing Home week\n\nDrive around the circle and see your loved ones. No physical contact but great opportunity to celebrate.
X-ALT-DESC;FMTTYPE=text/html:While Social distancing is a must. We are inviting our friends and families to participate in a PARADE!<br />\nCome join us in celebrating National Nursing Home week<br />\nDrive around the circle and see your loved ones. No physical contact but great opportunity to celebrate.
LOCATION:Beaufort Nursing and Rehab 11 Todd Drive Beaufort\, SC
UID:e.1212.12663
SEQUENCE:3
DTSTAMP:20260420T120530Z
URL:https://business.beaufortchamber.org/events/details/sharing-our-wisdom-parade-12663
END:VEVENT

END:VCALENDAR
