BEGIN:VCALENDAR
VERSION:2.0
PRODID:-//ChamberMaster//Event Calendar 2.0//EN
METHOD:PUBLISH
X-PUBLISHED-TTL:P3D
REFRESH-INTERVAL:P3D
CALSCALE:GREGORIAN
BEGIN:VEVENT
DTSTART:20190504T133000Z
DTEND:20190504T160000Z
X-MICROSOFT-CDO-ALLDAYEVENT:FALSE
SUMMARY:Shark Tooth Frenzy
DESCRIPTION:You don't want to miss this upcoming Shark Tooth Frenzy on May 4th! No matter your age\, come out and enjoy hunting for sharks teeth on The Sands Beach of Port Royal\, SC. This is a family fun event that will create memories that will last a life time! We will have sharks teeth of all species and sizes including MEGALODONS hidden in the water waiting to be found
X-ALT-DESC;FMTTYPE=text/html:<span style="color: rgb(29\, 33\, 41)\; font-family: system-ui\, -apple-system\, system-ui\, &quot\;.SFNSText-Regular&quot\;\, sans-serif\; font-size: 14px\; white-space: pre-wrap\;">You don&#39\;t want to miss this upcoming Shark Tooth Frenzy on May 4th! No matter your age\, come out and enjoy hunting for sharks teeth on The Sands Beach of Port Royal\, SC. This is a family fun event that will create memories that will last a life time! We will have sharks teeth of all species and sizes including MEGALODONS hidden in the water waiting to be found </span>
LOCATION:Sands Beach\, Port Royal\, SC
UID:e.1212.11588
SEQUENCE:3
DTSTAMP:20260422T175241Z
URL:https://business.beaufortchamber.org/events/details/shark-tooth-frenzy-11588
END:VEVENT

END:VCALENDAR
