BEGIN:VCALENDAR
VERSION:2.0
PRODID:-//ChamberMaster//Event Calendar 2.0//EN
METHOD:PUBLISH
X-PUBLISHED-TTL:P3D
REFRESH-INTERVAL:P3D
CALSCALE:GREGORIAN
BEGIN:VEVENT
DTSTART;VALUE=DATE:20081011
DTEND;VALUE=DATE:20081012
TRANSP:TRANSPARENT
X-MICROSOFT-CDO-ALLDAYEVENT:TRUE
SUMMARY:Sharon E. McGee Book Signing
DESCRIPTION:Sharon E. McGee is a self-taught stained glass artist\, two of her works are on display\, one at the Chocolate Tree and the other at Anderson Funeral Home which is the setting for her novel Anybody's Guess.
X-ALT-DESC;FMTTYPE=text/html:Sharon E. McGee is a self-taught stained glass artist\, two of her works are on display\, one at the Chocolate Tree and the other at Anderson Funeral Home which is the setting for her novel Anybody's Guess.
LOCATION:
UID:e.1212.2686
SEQUENCE:3
DTSTAMP:20260425T134515Z
URL:https://business.beaufortchamber.org/events/details/sharon-e-mcgee-book-signing-10-11-2008-2686
END:VEVENT

END:VCALENDAR
