BEGIN:VCALENDAR
VERSION:2.0
PRODID:-//ChamberMaster//Event Calendar 2.0//EN
METHOD:PUBLISH
X-PUBLISHED-TTL:P3D
REFRESH-INTERVAL:P3D
CALSCALE:GREGORIAN
BEGIN:VEVENT
DTSTART;VALUE=DATE:20081030
DTEND;VALUE=DATE:20081031
TRANSP:TRANSPARENT
X-MICROSOFT-CDO-ALLDAYEVENT:TRUE
SUMMARY:Shorline Change in Beaufort County Forum
DESCRIPTION:Shorline Change Working Group through Clemson University in conjunction with SC Office of Ocean & Coastal Resource Management will solicit public input on beachfront management issues in along the coast.  Public is encouraged to discuss issues\, express concerns and suggest future directions for state programs relating to shorline change and beachfront management.
X-ALT-DESC;FMTTYPE=text/html:Shorline Change Working Group through Clemson University in conjunction with SC Office of Ocean & Coastal Resource Management will solicit public input on beachfront management issues in along the coast.  Public is encouraged to discuss issues\, express concerns and suggest future directions for state programs relating to shorline change and beachfront management.
LOCATION:
UID:e.1212.2779
SEQUENCE:3
DTSTAMP:20260425T135759Z
URL:https://business.beaufortchamber.org/events/details/shorline-change-in-beaufort-county-forum-10-30-2008-2779
END:VEVENT

END:VCALENDAR
