BEGIN:VCALENDAR
VERSION:2.0
PRODID:-//ChamberMaster//Event Calendar 2.0//EN
METHOD:PUBLISH
X-PUBLISHED-TTL:P3D
REFRESH-INTERVAL:P3D
CALSCALE:GREGORIAN
BEGIN:VEVENT
DTSTART:20190522T153000Z
DTEND:20190522T170000Z
X-MICROSOFT-CDO-ALLDAYEVENT:FALSE
SUMMARY:Shorts @ High Noon
DESCRIPTION:Spring Session of Shorts @ High Noon each Wednesday during the months of April and May 2019 at noon (12:00pm). The Beaufort Film Society will be screening our collection of Short Films\, Student films and Animation films. Many films will come from this year's film festival with a few surprises along the way.
X-ALT-DESC;FMTTYPE=text/html:<span style="color: rgb(29\, 33\, 41)\; font-family: system-ui\, -apple-system\, system-ui\, &quot\;.SFNSText-Regular&quot\;\, sans-serif\; font-size: 14px\; white-space: pre-wrap\;">Spring Session of Shorts @ High Noon each Wednesday during the months of April and May 2019 at noon (12:00pm). The Beaufort Film Society will be screening our collection of Short Films\, Student films and Animation films. Many films will come from this year&#39\;s film festival with a few surprises along the way. </span>
LOCATION:Technical College of the Lowcountry
UID:e.1212.11541
SEQUENCE:3
DTSTAMP:20260422T175120Z
URL:https://business.beaufortchamber.org/events/details/shorts-high-noon-05-22-2019-11541
END:VEVENT

END:VCALENDAR
