BEGIN:VCALENDAR
VERSION:2.0
PRODID:-//ChamberMaster//Event Calendar 2.0//EN
METHOD:PUBLISH
X-PUBLISHED-TTL:P3D
REFRESH-INTERVAL:P3D
CALSCALE:GREGORIAN
BEGIN:VEVENT
DTSTART;VALUE=DATE:20071012
DTEND;VALUE=DATE:20071013
TRANSP:TRANSPARENT
X-MICROSOFT-CDO-ALLDAYEVENT:TRUE
SUMMARY:Show Opening and Evening Reception
DESCRIPTION:The Beaufort Art Association would like to welcome all BAA members to come to this Opening Reception\, and to support this show throughout the two-month run.
X-ALT-DESC;FMTTYPE=text/html:The Beaufort Art Association would like to welcome all BAA members to come to this Opening Reception\, and to support this show throughout the two-month run.
LOCATION:Beaufort
UID:e.1212.1786
SEQUENCE:3
DTSTAMP:20260424T195825Z
URL:https://business.beaufortchamber.org/events/details/show-opening-and-evening-reception-10-12-2007-1786
END:VEVENT

END:VCALENDAR
