BEGIN:VCALENDAR
VERSION:2.0
PRODID:-//ChamberMaster//Event Calendar 2.0//EN
METHOD:PUBLISH
X-PUBLISHED-TTL:P3D
REFRESH-INTERVAL:P3D
CALSCALE:GREGORIAN
BEGIN:VEVENT
DTSTART;VALUE=DATE:20080213
DTEND;VALUE=DATE:20080214
TRANSP:TRANSPARENT
X-MICROSOFT-CDO-ALLDAYEVENT:TRUE
SUMMARY:Silver Solder Class
DESCRIPTION:Learn the basics of silver soldering.   Call for materials you will need to bring.  Reservations required.\nCost:  $27.
X-ALT-DESC;FMTTYPE=text/html:Learn the basics of silver soldering.   Call for materials you will need to bring.  Reservations required.\nCost:  $27.
LOCATION:
UID:e.1212.2166
SEQUENCE:3
DTSTAMP:20260425T010322Z
URL:https://business.beaufortchamber.org/events/details/silver-solder-class-02-13-2008-2166
END:VEVENT

END:VCALENDAR
