BEGIN:VCALENDAR
VERSION:2.0
PRODID:-//ChamberMaster//Event Calendar 2.0//EN
METHOD:PUBLISH
X-PUBLISHED-TTL:P3D
REFRESH-INTERVAL:P3D
CALSCALE:GREGORIAN
BEGIN:VEVENT
DTSTART;VALUE=DATE:20081024
DTEND;VALUE=DATE:20081025
TRANSP:TRANSPARENT
X-MICROSOFT-CDO-ALLDAYEVENT:TRUE
SUMMARY:Silvi's 1st Annual Oktoberfest
DESCRIPTION:Bavarian menu with dishes featuring fresh duck\, beef roladen\, smoked pork chop and more.  German beer and wine.
X-ALT-DESC;FMTTYPE=text/html:Bavarian menu with dishes featuring fresh duck\, beef roladen\, smoked pork chop and more.  German beer and wine.
LOCATION:
UID:e.1212.2764
SEQUENCE:3
DTSTAMP:20260425T151252Z
URL:https://business.beaufortchamber.org/events/details/silvi-s-1st-annual-oktoberfest-10-24-2008-2764
END:VEVENT

END:VCALENDAR
