BEGIN:VCALENDAR
VERSION:2.0
PRODID:-//ChamberMaster//Event Calendar 2.0//EN
METHOD:PUBLISH
X-PUBLISHED-TTL:P3D
REFRESH-INTERVAL:P3D
CALSCALE:GREGORIAN
BEGIN:VEVENT
DTSTART;VALUE=DATE:20081113
DTEND;VALUE=DATE:20081114
TRANSP:TRANSPARENT
X-MICROSOFT-CDO-ALLDAYEVENT:TRUE
SUMMARY:Small Business Committe Meeting
DESCRIPTION:
X-ALT-DESC;FMTTYPE=text/html:
LOCATION:
UID:e.1212.2783
SEQUENCE:3
DTSTAMP:20260425T151017Z
URL:https://business.beaufortchamber.org/events/details/small-business-committe-meeting-11-13-2008-2783
END:VEVENT

END:VCALENDAR
