BEGIN:VCALENDAR
VERSION:2.0
PRODID:-//ChamberMaster//Event Calendar 2.0//EN
METHOD:PUBLISH
X-PUBLISHED-TTL:P3D
REFRESH-INTERVAL:P3D
CALSCALE:GREGORIAN
BEGIN:VEVENT
DTSTART;VALUE=DATE:20080805
DTEND;VALUE=DATE:20080806
TRANSP:TRANSPARENT
X-MICROSOFT-CDO-ALLDAYEVENT:TRUE
SUMMARY:Small Business Contracting Seminar
DESCRIPTION:This opportunity combines education and counseling by expert small business advisors\, networking and business match-making through face to face appointments. \n\n The event will also feature a presentation by the U.S. Small Business Administration (SBA) on the basics of government contracting. \n \n http://www.gsa.gov\n\nr4smallbiz@gsa.gov\n\n404.331.5103
X-ALT-DESC;FMTTYPE=text/html:This opportunity combines education and counseling by expert small business advisors\, networking and business match-making through face to face appointments. <BR><BR> The event will also feature a presentation by the U.S. Small Business Administration (SBA) on the basics of government contracting. <BR> <BR> http://www.gsa.gov<BR><BR>r4smallbiz@gsa.gov<BR><BR>404.331.5103
LOCATION:Columbia\, SC
UID:e.1212.2646
SEQUENCE:3
DTSTAMP:20260425T105507Z
URL:https://business.beaufortchamber.org/events/details/small-business-contracting-seminar-08-05-2008-2646
END:VEVENT

END:VCALENDAR
