BEGIN:VCALENDAR
VERSION:2.0
PRODID:-//ChamberMaster//Event Calendar 2.0//EN
METHOD:PUBLISH
X-PUBLISHED-TTL:P3D
REFRESH-INTERVAL:P3D
CALSCALE:GREGORIAN
BEGIN:VEVENT
DTSTART:20200713T130000Z
DTEND:20200724T150000Z
X-MICROSOFT-CDO-ALLDAYEVENT:FALSE
SUMMARY:Society of Bluffton Artists Summer Art Camp for Kids Schedule has Changed
DESCRIPTION:The Society of Bluffton Artists (SOBA)'s 2020 Summer Art Camp for kids has had a schedule change in light of the coronavirus. The art camp runs from 9-11 a.m. Monday-Friday July 13-17 for ages 6-9 and July 20-24 for ages 10-12. The camp will take place at SOBA's Center for Creative Arts\, located next door to the gallery in Old Town Bluffton. The cost is $100 per child per week. Organizers are taking precautions in light of the coronavirus\, limiting the classes to 10 students. Each student will have their own work station. Please have children wear old clothing suitable for painting. Please do not send children with food. Drinks only. The tuition cost includes all materials. Each week will feature different art activities that will ignite children's creativity. Children will explore different artistic techniques while having fun. The instructor is artist Mary Burrell\, a member of SOBA and the National Association of Women Artists. Additionally\, Burrell teaches arts and crafts to preschoolers\, aftercare and camp children at Cross Schools in Bluffton. To register\, visit bit.ly/2020KidsArtCamp. For more information\, contact Mary Burrell at 845-893-5726 or memburrell@gmail.com.
X-ALT-DESC;FMTTYPE=text/html:The Society of Bluffton Artists (SOBA)&rsquo\;s 2020 Summer Art Camp for kids has had a schedule change in light of the coronavirus. The art camp runs from 9-11 a.m. Monday-Friday July 13-17 for ages 6-9 and July 20-24 for ages 10-12. The camp will take place at SOBA&rsquo\;s Center for Creative Arts\, located next door to the gallery in Old Town Bluffton. The cost is $100 per child per week. Organizers are taking precautions in light of the coronavirus\, limiting the classes to 10 students. Each student will have their own work station. Please have children wear old clothing suitable for painting. Please do not send children with food. Drinks only. The tuition cost includes all materials. Each week will feature different art activities that will ignite children&rsquo\;s creativity. Children will explore different artistic techniques while having fun. The instructor is artist Mary Burrell\, a member of SOBA and the National Association of Women Artists. Additionally\, Burrell teaches arts and crafts to preschoolers\, aftercare and camp children at Cross Schools in Bluffton. To register\, visit bit.ly/2020KidsArtCamp. For more information\, contact Mary Burrell at 845-893-5726 or memburrell@gmail.com.
LOCATION:Society of Bluffton Artists Center for Creative Arts 8 Church Street Bluffton\, SC 29910
UID:e.1212.12666
SEQUENCE:3
DTSTAMP:20260420T090059Z
URL:https://business.beaufortchamber.org/events/details/society-of-bluffton-artists-summer-art-camp-for-kids-schedule-has-changed-12666
END:VEVENT

END:VCALENDAR
