BEGIN:VCALENDAR
VERSION:2.0
PRODID:-//ChamberMaster//Event Calendar 2.0//EN
METHOD:PUBLISH
X-PUBLISHED-TTL:P3D
REFRESH-INTERVAL:P3D
CALSCALE:GREGORIAN
BEGIN:VEVENT
DTSTART;VALUE=DATE:20081109
DTEND;VALUE=DATE:20081110
TRANSP:TRANSPARENT
X-MICROSOFT-CDO-ALLDAYEVENT:TRUE
SUMMARY:Son's of AMVETS Post 70 - Estuarium Pre-Renovation Reception
DESCRIPTION:The Esturarium is A Coastal Learning Center that has been open for 6 years.  We are looking to generate community support for this project and enlist volunteers for it.  Open to the public and light refreshments will be served.
X-ALT-DESC;FMTTYPE=text/html:The Esturarium is A Coastal Learning Center that has been open for 6 years.  We are looking to generate community support for this project and enlist volunteers for it.  Open to the public and light refreshments will be served.
LOCATION:
UID:e.1212.2789
SEQUENCE:3
DTSTAMP:20260425T145941Z
URL:https://business.beaufortchamber.org/events/details/son-s-of-amvets-post-70-estuarium-pre-renovation-reception-11-09-2008-2789
END:VEVENT

END:VCALENDAR
