BEGIN:VCALENDAR
VERSION:2.0
PRODID:-//ChamberMaster//Event Calendar 2.0//EN
METHOD:PUBLISH
X-PUBLISHED-TTL:P3D
REFRESH-INTERVAL:P3D
CALSCALE:GREGORIAN
BEGIN:VEVENT
DTSTART;VALUE=DATE:20080131
DTEND;VALUE=DATE:20080201
TRANSP:TRANSPARENT
X-MICROSOFT-CDO-ALLDAYEVENT:TRUE
SUMMARY:South Carolina Bank & Trust Grand Opening
DESCRIPTION:At the new Lady's Island branch\; please RSVP
X-ALT-DESC;FMTTYPE=text/html:At the new Lady's Island branch\; please RSVP
LOCATION:Lady's Island
UID:e.1212.2045
SEQUENCE:3
DTSTAMP:20260425T010517Z
URL:https://business.beaufortchamber.org/events/details/south-carolina-bank-trust-grand-opening-01-31-2008-2045
END:VEVENT

END:VCALENDAR
