BEGIN:VCALENDAR
VERSION:2.0
PRODID:-//ChamberMaster//Event Calendar 2.0//EN
METHOD:PUBLISH
X-PUBLISHED-TTL:P3D
REFRESH-INTERVAL:P3D
CALSCALE:GREGORIAN
BEGIN:VEVENT
DTSTART;VALUE=DATE:20080307
DTEND;VALUE=DATE:20080308
TRANSP:TRANSPARENT
X-MICROSOFT-CDO-ALLDAYEVENT:TRUE
SUMMARY:Spring Art Walk Featured Artist at The Gallery
DESCRIPTION:Opening reception for artist Dan Robertson.
X-ALT-DESC;FMTTYPE=text/html:Opening reception for artist Dan Robertson.
LOCATION:
UID:e.1212.2134
SEQUENCE:3
DTSTAMP:20260425T024723Z
URL:https://business.beaufortchamber.org/events/details/spring-art-walk-featured-artist-at-the-gallery-03-07-2008-2134
END:VEVENT

END:VCALENDAR
