BEGIN:VCALENDAR
VERSION:2.0
PRODID:-//ChamberMaster//Event Calendar 2.0//EN
METHOD:PUBLISH
X-PUBLISHED-TTL:P3D
REFRESH-INTERVAL:P3D
CALSCALE:GREGORIAN
BEGIN:VEVENT
DTSTART:20190530T180000Z
DTEND:20190530T200000Z
X-MICROSOFT-CDO-ALLDAYEVENT:FALSE
SUMMARY:Spring Tour of the Retreat
DESCRIPTION:The Residents & Staff would like to invite you to The 1st Annual Spring Tour and Anniversary Celebration of The Retreat at Lady's Island!\n\nCome see how we are enjoying life here at The Retreat\, Several Residents will be opening their Apartments for tours!
X-ALT-DESC;FMTTYPE=text/html:The Residents &amp\; Staff would like to invite you to The 1st Annual Spring Tour and Anniversary Celebration of The Retreat at Lady&rsquo\;s Island!<br />\nCome see how we are enjoying life here at The Retreat\, Several Residents will be opening their Apartments for tours!
LOCATION:The Retreat at Lady's Island 9 Sunset Blvd
UID:e.1212.12226
SEQUENCE:3
DTSTAMP:20260422T175316Z
URL:https://business.beaufortchamber.org/events/details/spring-tour-of-the-retreat-12226
END:VEVENT

END:VCALENDAR
