BEGIN:VCALENDAR
VERSION:2.0
PRODID:-//ChamberMaster//Event Calendar 2.0//EN
METHOD:PUBLISH
X-PUBLISHED-TTL:P3D
REFRESH-INTERVAL:P3D
CALSCALE:GREGORIAN
BEGIN:VEVENT
DTSTART:20190513T203000Z
DTEND:20190513T213000Z
X-MICROSOFT-CDO-ALLDAYEVENT:FALSE
SUMMARY:Starting a Garden in the Lowcountry
DESCRIPTION:Starting a Garden in the Lowcountry\n\n\n\nPresented by Urban Horticulture Agent and Master Gardener\, Laura Lee Rose of the Clemson Extension.\n\n\n\nIncludes a demonstration.
X-ALT-DESC;FMTTYPE=text/html:<span style="font-family: Verdana\, Geneva\, sans-serif\; font-size: 14.666666984558105px\; background-color: rgb(255\, 255\, 255)\;">Starting a Garden in the Lowcountry</span><br style="font-family: Verdana\, Geneva\, sans-serif\; font-size: 14.666666984558105px\;" />\n<br style="font-family: Verdana\, Geneva\, sans-serif\; font-size: 14.666666984558105px\;" />\n<span style="font-family: Verdana\, Geneva\, sans-serif\; font-size: 14.666666984558105px\; background-color: rgb(255\, 255\, 255)\;">Presented by Urban Horticulture Agent and Master Gardener\, Laura Lee Rose of the Clemson Extension.</span><br style="font-family: Verdana\, Geneva\, sans-serif\; font-size: 14.666666984558105px\;" />\n<br style="font-family: Verdana\, Geneva\, sans-serif\; font-size: 14.666666984558105px\;" />\n<span style="font-family: Verdana\, Geneva\, sans-serif\; font-size: 14.666666984558105px\; background-color: rgb(255\, 255\, 255)\;">Includes a demonstration.</span>
LOCATION:Beaufort County Library
UID:e.1212.11571
SEQUENCE:3
DTSTAMP:20260422T175318Z
URL:https://business.beaufortchamber.org/events/details/starting-a-garden-in-the-lowcountry-11571
END:VEVENT

END:VCALENDAR
