BEGIN:VCALENDAR
VERSION:2.0
PRODID:-//ChamberMaster//Event Calendar 2.0//EN
METHOD:PUBLISH
X-PUBLISHED-TTL:P3D
REFRESH-INTERVAL:P3D
CALSCALE:GREGORIAN
BEGIN:VEVENT
DTSTART:20260306T130000Z
DTEND:20260306T153000Z
X-MICROSOFT-CDO-ALLDAYEVENT:FALSE
SUMMARY:State of the Community
DESCRIPTION:Join us for the latest economic forecast and special presentations by our community leaders.\n\n\n\nCoffee bar and breakfast provided.
X-ALT-DESC;FMTTYPE=text/html:Join us for the latest economic forecast and special presentations by our community leaders.<br />\n<br />\nCoffee bar and breakfast provided.&nbsp\;
LOCATION:Dataw Island Clubhouse Carolina Ballroom
UID:e.1212.14968
SEQUENCE:3
DTSTAMP:20260420T082943Z
URL:https://business.beaufortchamber.org/events/details/state-of-the-community-14968
END:VEVENT

END:VCALENDAR
