BEGIN:VCALENDAR
VERSION:2.0
PRODID:-//ChamberMaster//Event Calendar 2.0//EN
METHOD:PUBLISH
X-PUBLISHED-TTL:P3D
REFRESH-INTERVAL:P3D
CALSCALE:GREGORIAN
BEGIN:VEVENT
DTSTART;VALUE=DATE:20080211
DTEND;VALUE=DATE:20080212
TRANSP:TRANSPARENT
X-MICROSOFT-CDO-ALLDAYEVENT:TRUE
SUMMARY:Step Up Your Stamping Class
DESCRIPTION:Learn how to stamp on a variety of materials.  Supplies provided.  Reservations required.  Cost:  $27.
X-ALT-DESC;FMTTYPE=text/html:Learn how to stamp on a variety of materials.  Supplies provided.  Reservations required.  Cost:  $27.
LOCATION:
UID:e.1212.2164
SEQUENCE:3
DTSTAMP:20260425T005656Z
URL:https://business.beaufortchamber.org/events/details/step-up-your-stamping-class-02-11-2008-2164
END:VEVENT

END:VCALENDAR
