BEGIN:VCALENDAR
VERSION:2.0
PRODID:-//ChamberMaster//Event Calendar 2.0//EN
METHOD:PUBLISH
X-PUBLISHED-TTL:P3D
REFRESH-INTERVAL:P3D
CALSCALE:GREGORIAN
BEGIN:VEVENT
DTSTART:20250510T160000Z
DTEND:20250510T173000Z
X-MICROSOFT-CDO-ALLDAYEVENT:FALSE
SUMMARY:Stories & Sips: A Spring Tea Party
DESCRIPTION:It is time for Morris Center's annual spring tea party. Come for a delightful afternoon of teas\, delectable treats\, and captivating storytelling. Author Mary Martha Greene will entertain you with tales of her family and friends\, and how those stories impacted the food they cooked and served at their tables. In honor of Mother's Day\, Mary might even include a few stories her mother wishes she wouldn't tell!  Her ultimate goal is to get you thinking about the stories and recipes you need to write down to share with the future generations in your family.
X-ALT-DESC;FMTTYPE=text/html:<span style="color:rgb(34\, 34\, 34)\; font-family:adobe-jenson-pro-display\,serif\; font-size:24px">It is time for Morris Center&#39\;s annual spring tea party. Come for a delightful afternoon of teas\, delectable treats\, and captivating storytelling. Author Mary Martha Greene will entertain you with tales of her family and friends\, and how those stories impacted the food they cooked and served at their tables. In honor of Mother&rsquo\;s Day\, Mary might even include a few stories her mother wishes she wouldn&rsquo\;t tell!&nbsp\; Her ultimate goal is to get you thinking about the stories and recipes you need to write down to share with the future generations in your family.&nbsp\;</span>
LOCATION:Morris Center for Lowcountry Heritage
UID:e.1212.14176
SEQUENCE:3
DTSTAMP:20260424T001729Z
URL:https://business.beaufortchamber.org/events/details/stories-sips-a-spring-tea-party-14176
END:VEVENT

END:VCALENDAR
