BEGIN:VCALENDAR
VERSION:2.0
PRODID:-//ChamberMaster//Event Calendar 2.0//EN
METHOD:PUBLISH
X-PUBLISHED-TTL:P3D
REFRESH-INTERVAL:P3D
CALSCALE:GREGORIAN
BEGIN:VEVENT
DTSTART;VALUE=DATE:20080114
DTEND;VALUE=DATE:20080115
TRANSP:TRANSPARENT
X-MICROSOFT-CDO-ALLDAYEVENT:TRUE
SUMMARY:Storytelling with Puppets
DESCRIPTION:Workshop by Yostie\, puppeteer.  Fee - $10.  Call to register.   If your children missed her at Chalk on\nthe Walk\, bring them to this workshop!
X-ALT-DESC;FMTTYPE=text/html:Workshop by Yostie\, puppeteer.  Fee - $10.  Call to register.   If your children missed her at Chalk on\nthe Walk\, bring them to this workshop!
LOCATION:
UID:e.1212.2102
SEQUENCE:3
DTSTAMP:20260424T234121Z
URL:https://business.beaufortchamber.org/events/details/storytelling-with-puppets-01-14-2008-2102
END:VEVENT

END:VCALENDAR
